BEGIN:VCALENDAR
VERSION:2.0
PRODID:-//UT Southern - ECPv6.15.18//NONSGML v1.0//EN
CALSCALE:GREGORIAN
METHOD:PUBLISH
X-WR-CALNAME:UT Southern
X-ORIGINAL-URL:https://utsouthern.edu
X-WR-CALDESC:Events for UT Southern
REFRESH-INTERVAL;VALUE=DURATION:PT1H
X-Robots-Tag:noindex
X-PUBLISHED-TTL:PT1H
BEGIN:VTIMEZONE
TZID:America/Chicago
BEGIN:DAYLIGHT
TZOFFSETFROM:-0600
TZOFFSETTO:-0500
TZNAME:CDT
DTSTART:20250309T080000
END:DAYLIGHT
BEGIN:STANDARD
TZOFFSETFROM:-0500
TZOFFSETTO:-0600
TZNAME:CST
DTSTART:20251102T070000
END:STANDARD
BEGIN:DAYLIGHT
TZOFFSETFROM:-0600
TZOFFSETTO:-0500
TZNAME:CDT
DTSTART:20260308T080000
END:DAYLIGHT
BEGIN:STANDARD
TZOFFSETFROM:-0500
TZOFFSETTO:-0600
TZNAME:CST
DTSTART:20261101T070000
END:STANDARD
BEGIN:DAYLIGHT
TZOFFSETFROM:-0600
TZOFFSETTO:-0500
TZNAME:CDT
DTSTART:20270314T080000
END:DAYLIGHT
BEGIN:STANDARD
TZOFFSETFROM:-0500
TZOFFSETTO:-0600
TZNAME:CST
DTSTART:20271107T070000
END:STANDARD
END:VTIMEZONE
BEGIN:VEVENT
DTSTART;TZID=America/Chicago:20260221T080000
DTEND;TZID=America/Chicago:20260221T160000
DTSTAMP:20260423T091732
CREATED:20260224T155215Z
LAST-MODIFIED:20260224T155215Z
UID:4833-1771660800-1771689600@utsouthern.edu
SUMMARY:4th Annual Lynn McKee Erwin Conference on Children’s Literature
DESCRIPTION:
URL:https://utsouthern.edu/event/4th-annual-lynn-mckee-erwin-conference-on-childrens-literature/
LOCATION:TN
CATEGORIES:Academics
END:VEVENT
BEGIN:VEVENT
DTSTART;TZID=America/Chicago:20260221T083000
DTEND;TZID=America/Chicago:20260221T163000
DTSTAMP:20260423T091732
CREATED:20260109T214713Z
LAST-MODIFIED:20260119T231650Z
UID:4687-1771662600-1771691400@utsouthern.edu
SUMMARY:Fourth Annual Lynn McKee Erwin Conference on Children’s Literature
DESCRIPTION:This all-day event is a fantastic opportunity for K-5 grade teachers to earn\nprofessional development credit and enjoy presentations from: Nominee for the Volunteer State Book Award Author Frank Murphy; Florida State Book Award Gold Medalist Author Sophia Gholz; 50 States 50 Books Founder and Author Charnaie Gordon. \nThe day will be filled with enriching educational sessions\, free books\, exclusive goodies\, and plenty of fun. Don’t miss out on this amazing opportunity to grow your teaching practice and network with fellow educators. \nRegister here today.
URL:https://utsouthern.edu/event/fourth-annual-lynn-mckee-erwin-conference-on-childrens-literature/
LOCATION:Martin Hall Auditorium\, 433 W. Madison St.\, Pulaski\, TN\, 38478\, United States
CATEGORIES:Academics
END:VEVENT
END:VCALENDAR