BEGIN:VCALENDAR
VERSION:2.0
PRODID:-//UT Southern - ECPv6.15.18//NONSGML v1.0//EN
CALSCALE:GREGORIAN
METHOD:PUBLISH
X-ORIGINAL-URL:https://utsouthern.edu
X-WR-CALDESC:Events for UT Southern
REFRESH-INTERVAL;VALUE=DURATION:PT1H
X-Robots-Tag:noindex
X-PUBLISHED-TTL:PT1H
BEGIN:VTIMEZONE
TZID:America/Chicago
BEGIN:DAYLIGHT
TZOFFSETFROM:-0600
TZOFFSETTO:-0500
TZNAME:CDT
DTSTART:20230312T080000
END:DAYLIGHT
BEGIN:STANDARD
TZOFFSETFROM:-0500
TZOFFSETTO:-0600
TZNAME:CST
DTSTART:20231105T070000
END:STANDARD
BEGIN:DAYLIGHT
TZOFFSETFROM:-0600
TZOFFSETTO:-0500
TZNAME:CDT
DTSTART:20240310T080000
END:DAYLIGHT
BEGIN:STANDARD
TZOFFSETFROM:-0500
TZOFFSETTO:-0600
TZNAME:CST
DTSTART:20241103T070000
END:STANDARD
BEGIN:DAYLIGHT
TZOFFSETFROM:-0600
TZOFFSETTO:-0500
TZNAME:CDT
DTSTART:20250309T080000
END:DAYLIGHT
BEGIN:STANDARD
TZOFFSETFROM:-0500
TZOFFSETTO:-0600
TZNAME:CST
DTSTART:20251102T070000
END:STANDARD
END:VTIMEZONE
BEGIN:VEVENT
DTSTART;TZID=America/Chicago:20240927T110000
DTEND;TZID=America/Chicago:20240927T110000
DTSTAMP:20260423T025705
CREATED:20240917T144339Z
LAST-MODIFIED:20240927T112547Z
UID:2616-1727434800-1727434800@utsouthern.edu
SUMMARY:Criminal Justice Speaker Series with Vic Andrea
DESCRIPTION:This event will be rescheduled due to the potential for severe weather and the transition to remove learning. \n  \n1st Lt Victor Andrea is currently the 118th Security Forces Operations Officer and 118th Wing Anti-Terrorism Officer in the Tennessee Air National Guard at Berry Field\, Nashville\, Tennessee. In a civilian law enforcement capacity\, he served for over 20 years with the New York City Police Department (NYPD) as a Police Officer\, Detective\, Sergeant\, Sergeant-Detective\, and retired at the rank of Lieutenant in 2013. \nDuring his tenure with NYPD\, he was assigned to several different commands including patrol\, Community Policing\, Narcotics\, the Street Crime Unit\, Anti-Crime\, the Counter-Terrorism Division\, and spent 9 years on the Joint Terrorism Task Force (JTTF) in New York and the National Joint Terrorism Task Force in Washington DC.
URL:https://utsouthern.edu/event/criminal-justice-speaker-series-with-vic-andrea/
LOCATION:Gault Fine Arts Auditorium
CATEGORIES:Academics
END:VEVENT
END:VCALENDAR