BEGIN:VCALENDAR
VERSION:2.0
PRODID:-//UT Southern - ECPv6.15.18//NONSGML v1.0//EN
CALSCALE:GREGORIAN
METHOD:PUBLISH
X-ORIGINAL-URL:https://utsouthern.edu
X-WR-CALDESC:Events for UT Southern
REFRESH-INTERVAL;VALUE=DURATION:PT1H
X-Robots-Tag:noindex
X-PUBLISHED-TTL:PT1H
BEGIN:VTIMEZONE
TZID:America/Chicago
BEGIN:DAYLIGHT
TZOFFSETFROM:-0600
TZOFFSETTO:-0500
TZNAME:CDT
DTSTART:20230312T080000
END:DAYLIGHT
BEGIN:STANDARD
TZOFFSETFROM:-0500
TZOFFSETTO:-0600
TZNAME:CST
DTSTART:20231105T070000
END:STANDARD
BEGIN:DAYLIGHT
TZOFFSETFROM:-0600
TZOFFSETTO:-0500
TZNAME:CDT
DTSTART:20240310T080000
END:DAYLIGHT
BEGIN:STANDARD
TZOFFSETFROM:-0500
TZOFFSETTO:-0600
TZNAME:CST
DTSTART:20241103T070000
END:STANDARD
BEGIN:DAYLIGHT
TZOFFSETFROM:-0600
TZOFFSETTO:-0500
TZNAME:CDT
DTSTART:20250309T080000
END:DAYLIGHT
BEGIN:STANDARD
TZOFFSETFROM:-0500
TZOFFSETTO:-0600
TZNAME:CST
DTSTART:20251102T070000
END:STANDARD
BEGIN:DAYLIGHT
TZOFFSETFROM:-0600
TZOFFSETTO:-0500
TZNAME:CDT
DTSTART:20260308T080000
END:DAYLIGHT
BEGIN:STANDARD
TZOFFSETFROM:-0500
TZOFFSETTO:-0600
TZNAME:CST
DTSTART:20261101T070000
END:STANDARD
END:VTIMEZONE
BEGIN:VEVENT
DTSTART;TZID=America/Chicago:20250224T110000
DTEND;TZID=America/Chicago:20250224T120000
DTSTAMP:20260421T041140
CREATED:20250224T155114Z
LAST-MODIFIED:20250224T155114Z
UID:3460-1740394800-1740398400@utsouthern.edu
SUMMARY:Rise Above with Tia Banks
DESCRIPTION:Guest Speaker: Tia Banks \nJoin us in the Martin Theater at 11 AM on February 24th for guest speaker Tia Banks! A former pro athlete turned resilience expert\, Tia shares her powerful journey through adversity\, mental health challenges\, and success. \nShe’ll offer practical tools to help you build resilience and overcome obstacles in any situation. Don’t miss this inspiring and empowering session!
URL:https://utsouthern.edu/event/rise-above-with-tia-banks/
LOCATION:Martin Hall Auditorium\, 433 W. Madison St.\, Pulaski\, TN\, 38478\, United States
CATEGORIES:Student Life
END:VEVENT
BEGIN:VEVENT
DTSTART;TZID=America/Chicago:20250122T100000
DTEND;TZID=America/Chicago:20250122T143000
DTSTAMP:20260421T041140
CREATED:20250122T161923Z
LAST-MODIFIED:20250122T161939Z
UID:3271-1737540000-1737556200@utsouthern.edu
SUMMARY:Postvention for Athletes
DESCRIPTION:
URL:https://utsouthern.edu/event/postvention-for-athletes/
LOCATION:Warren-Wilson Hall\, 433 West Madison Street\, Pulaski\, TN\, 38478\, United States
CATEGORIES:Student Life
END:VEVENT
BEGIN:VEVENT
DTSTART;TZID=America/Chicago:20250107T140000
DTEND;TZID=America/Chicago:20250107T160000
DTSTAMP:20260421T041140
CREATED:20241216T174759Z
LAST-MODIFIED:20241216T174759Z
UID:3090-1736258400-1736265600@utsouthern.edu
SUMMARY:Create Your Own Vision Boards and Memory Jars
DESCRIPTION:Kick off the year with creativity! Create a vision board to set your goals and a memory jar to capture your favorite moments throughout the year.
URL:https://utsouthern.edu/event/create-your-own-vision-boards-and-memory-jars/
LOCATION:Student Life House\, 420 W Madison St\, Pulaski\, TN\, 38478\, United States
CATEGORIES:Student Life
END:VEVENT
BEGIN:VEVENT
DTSTART;TZID=America/Chicago:20250106T093000
DTEND;TZID=America/Chicago:20250106T113000
DTSTAMP:20260421T041140
CREATED:20241216T174358Z
LAST-MODIFIED:20241216T174358Z
UID:3088-1736155800-1736163000@utsouthern.edu
SUMMARY:Warm Welcome Back with Hot Chocolate Bar!
DESCRIPTION:Join Student Life to learn about this month’s upcoming events and enjoy a hot chocolate bar!
URL:https://utsouthern.edu/event/warm-welcome-back-with-hot-chocolate-bar/
LOCATION:Johnston Center
CATEGORIES:Student Life
END:VEVENT
BEGIN:VEVENT
DTSTART;TZID=America/Chicago:20241202T130000
DTEND;TZID=America/Chicago:20241206T133000
DTSTAMP:20260421T041140
CREATED:20240918T212448Z
LAST-MODIFIED:20240918T212448Z
UID:2631-1733144400-1733491800@utsouthern.edu
SUMMARY:Mindful Mile Challenge | Wear Red for HIV/AIDS
DESCRIPTION:Take a mindful break and join us on the campus green for a ‘Mindful Mile’ walk! As you stroll\, engage with trivia questions focused on health and wellness. This event is open to students and employees alike—add it to your calendar as a reminder to prioritize self-care and recharge during your busy day.
URL:https://utsouthern.edu/event/mindful-mile-challenge-wear-red-for-hiv-aids/
LOCATION:Campus Green\, W Madison St\, Pulasi\, TN\, 38478\, United States
CATEGORIES:Student Life
END:VEVENT
BEGIN:VEVENT
DTSTART;TZID=America/Chicago:20241121T110000
DTEND;TZID=America/Chicago:20241121T130000
DTSTAMP:20260421T041140
CREATED:20241105T155408Z
LAST-MODIFIED:20241105T155408Z
UID:2961-1732186800-1732194000@utsouthern.edu
SUMMARY:Firehawk Family Thanksgiving on the Green
DESCRIPTION:
URL:https://utsouthern.edu/event/firehawk-family-thanksgiving-on-the-green/
LOCATION:Campus Green\, W Madison St\, Pulasi\, TN\, 38478\, United States
CATEGORIES:Student Life
END:VEVENT
BEGIN:VEVENT
DTSTART;TZID=America/Chicago:20241120T160000
DTEND;TZID=America/Chicago:20241120T180000
DTSTAMP:20260421T041140
CREATED:20240927T161358Z
LAST-MODIFIED:20240927T161358Z
UID:2725-1732118400-1732125600@utsouthern.edu
SUMMARY:International Karaoke Extravaganza
DESCRIPTION:Join us for an afternoon of music from around the world! Showcase your talent as you sing your favorite songs. \nOpen to all students!
URL:https://utsouthern.edu/event/international-karaoke-extravaganza/
LOCATION:Martin Hall Auditorium\, 433 W. Madison St.\, Pulaski\, TN\, 38478\, United States
CATEGORIES:Student Life
END:VEVENT
BEGIN:VEVENT
DTSTART;TZID=America/Chicago:20241118T120000
DTEND;TZID=America/Chicago:20241118T140000
DTSTAMP:20260421T041140
CREATED:20240927T161124Z
LAST-MODIFIED:20240927T161124Z
UID:2724-1731931200-1731938400@utsouthern.edu
SUMMARY:Cultural Craft: Origami
DESCRIPTION:Kick-off International Education Week by learning about the Japanese paper-folding art of origami! This session will be taught by our own Japanese students and will give you the opportunity to create your own piece of origami to take home. \nThis is a “come and go” event. \nJapanese tea will be provided.
URL:https://utsouthern.edu/event/cultural-craft-origami/
LOCATION:Gault Fine Arts Gallery
CATEGORIES:Student Life
END:VEVENT
BEGIN:VEVENT
DTSTART;TZID=America/Chicago:20241107T190000
DTEND;TZID=America/Chicago:20241107T210000
DTSTAMP:20260421T041140
CREATED:20240927T161601Z
LAST-MODIFIED:20241007T165734Z
UID:2726-1731006000-1731013200@utsouthern.edu
SUMMARY:Guest Artist Series: Julia Rich
DESCRIPTION:UT Southern Fine Arts welcomes jazz singer Julia Rich to campus for an evening of song and stories of Julia’s time traveling with the Glenn Miller Orchestra.
URL:https://utsouthern.edu/event/guest-artist-series-julia-rich/
LOCATION:Gault Fine Arts Auditorium
CATEGORIES:Academics,Student Life
END:VEVENT
BEGIN:VEVENT
DTSTART;TZID=America/Chicago:20241104T130000
DTEND;TZID=America/Chicago:20241108T133000
DTSTAMP:20260421T041140
CREATED:20240918T212309Z
LAST-MODIFIED:20240918T212457Z
UID:2630-1730725200-1731072600@utsouthern.edu
SUMMARY:Mindful Mile Challenge | Wear White for Peace
DESCRIPTION:Take a mindful break and join us on the campus green for a ‘Mindful Mile’ walk! As you stroll\, engage with trivia questions focused on health and wellness. This event is open to students and employees alike—add it to your calendar as a reminder to prioritize self-care and recharge during your busy day.
URL:https://utsouthern.edu/event/mindful-mile-challenge-wear-white-for-peace/
LOCATION:Campus Green\, W Madison St\, Pulasi\, TN\, 38478\, United States
CATEGORIES:Student Life
END:VEVENT
BEGIN:VEVENT
DTSTART;TZID=America/Chicago:20241031T090000
DTEND;TZID=America/Chicago:20241031T160000
DTSTAMP:20260421T041140
CREATED:20241011T195841Z
LAST-MODIFIED:20241011T195841Z
UID:2818-1730365200-1730390400@utsouthern.edu
SUMMARY:Campus Trick or Treat
DESCRIPTION:Celebrate Halloween with a campus-wide trick-or-treat adventure! Stop by the Student Life House for a list of participating offices where you can collect candy\, win prizes\, and enjoy some festive fun.
URL:https://utsouthern.edu/event/campus-trick-or-treat/
LOCATION:TN
CATEGORIES:Student Life
END:VEVENT
BEGIN:VEVENT
DTSTART;TZID=America/Chicago:20241030T140000
DTEND;TZID=America/Chicago:20241030T150000
DTSTAMP:20260421T041140
CREATED:20241011T201702Z
LAST-MODIFIED:20241011T202145Z
UID:2814-1730296800-1730300400@utsouthern.edu
SUMMARY:The Role of Civility and Kindness
DESCRIPTION:Join us for a thought-provoking community discussion on the role of kindness and civility in our everyday lives. In a time when these values seem to be diminishing\, we face a growing culture of division and a “win-at-all-cost” mentality. This shift has impacted not only politics but all areas of modern life. As we navigate these challenges\, exploring the importance of kindness and civility is crucial to preserving our civil liberties and democratic principles.\n\n \nUT Southern is stepping up to lead this important conversation. We are honored to host Dr. Josh Dunn\, Executive Director of the Institute of American Civics at the Howard Baker School of Public Policy and Public Affairs at the University of Tennessee\, Knoxville\, and Dr. William Lyons\, Associate Director for Community Outreach and Professor Emeritus of Political Science. Together\, they will guide us through a discussion on the historical role of civility in public policy and civil debate.\nEvent Details\nOctober 30\, 2024\n2:00 – 3:00 PM\nGault Auditorium\, UT Southern
URL:https://utsouthern.edu/event/the-role-of-civility-and-kindness/
LOCATION:Gault Fine Arts Auditorium
CATEGORIES:Student Life
END:VEVENT
BEGIN:VEVENT
DTSTART;TZID=America/Chicago:20241027T180000
DTEND;TZID=America/Chicago:20241027T193000
DTSTAMP:20260421T041140
CREATED:20241023T142415Z
LAST-MODIFIED:20241023T142459Z
UID:2876-1730052000-1730057400@utsouthern.edu
SUMMARY:Sam and Colby: Farrar Elementary Paranormal Investigation EP. 3
DESCRIPTION:
URL:https://utsouthern.edu/event/sam-and-colby-farrar-elementary-paranormal-investigation-ep-3/
LOCATION:Gault Fine Arts Auditorium
CATEGORIES:Student Life
END:VEVENT
BEGIN:VEVENT
DTSTART;TZID=America/Chicago:20241024T190000
DTEND;TZID=America/Chicago:20241024T190000
DTSTAMP:20260421T041140
CREATED:20241011T195705Z
LAST-MODIFIED:20241011T195705Z
UID:2817-1729796400-1729796400@utsouthern.edu
SUMMARY:Outdoor Movie Night on the Campus Green
DESCRIPTION:Join us for an outdoor movie!  Bring a blanket\, grab some free stickers and snacks\, and enjoy the movie under the stars.
URL:https://utsouthern.edu/event/outdoor-movie-night-on-the-campus-green/
LOCATION:Campus Green\, W Madison St\, Pulasi\, TN\, 38478\, United States
CATEGORIES:Student Life
END:VEVENT
BEGIN:VEVENT
DTSTART;TZID=America/Chicago:20241023T180000
DTEND;TZID=America/Chicago:20241023T193000
DTSTAMP:20260421T041140
CREATED:20241023T142640Z
LAST-MODIFIED:20241023T142716Z
UID:2877-1729706400-1729711800@utsouthern.edu
SUMMARY:Sam and Colby: Farrar Elementary Paranormal Investigation EP. 2
DESCRIPTION:
URL:https://utsouthern.edu/event/sam-and-colby-farrar-elementary-paranormal-investigation-ep-2/
LOCATION:Gault Fine Arts Auditorium
CATEGORIES:Student Life
END:VEVENT
BEGIN:VEVENT
DTSTART;TZID=America/Chicago:20241023T130000
DTEND;TZID=America/Chicago:20241023T160000
DTSTAMP:20260421T041140
CREATED:20241011T195600Z
LAST-MODIFIED:20241011T195600Z
UID:2816-1729688400-1729699200@utsouthern.edu
SUMMARY:Pumpkin Carving @ Student Life
DESCRIPTION:Get into the Halloween spirit at our Pumpkin Carving Contest! Join us at the Student Life House to create your pumpkin masterpiece. Stop by anytime between 1-4 PM and show off your carving skills!
URL:https://utsouthern.edu/event/pumpkin-carving-student-life/
LOCATION:TN
CATEGORIES:Student Life
END:VEVENT
BEGIN:VEVENT
DTSTART;TZID=America/Chicago:20241020T170000
DTEND;TZID=America/Chicago:20241020T235900
DTSTAMP:20260421T041140
CREATED:20241018T210425Z
LAST-MODIFIED:20241018T211237Z
UID:2852-1729443600-1729468740@utsouthern.edu
SUMMARY:Sam and Colby: Farrar Elementary Ghost Hunt Watch Party
DESCRIPTION:
URL:https://utsouthern.edu/event/sam-and-colby-farrar-elementary-ghost-hunt-watch-party/
LOCATION:Gault Fine Arts Auditorium
CATEGORIES:Student Life
END:VEVENT
BEGIN:VEVENT
DTSTART;TZID=America/Chicago:20241018T160000
DTEND;TZID=America/Chicago:20241018T210000
DTSTAMP:20260421T041140
CREATED:20240919T163618Z
LAST-MODIFIED:20241014T212102Z
UID:2639-1729267200-1729285200@utsouthern.edu
SUMMARY:Hawktoberfest
DESCRIPTION:Friday\, October 18 \n4:00 PM          Hawktoberfest Games at the Curry Athletic Complex\n6:00 PM          UT Southern Volleyball vs. Middle Georgia Stat \n  \nStay up-to-date with the Hawktoberfest schedule as updates are posted on our social media accounts!
URL:https://utsouthern.edu/event/hawktoberfest/
LOCATION:TN
CATEGORIES:Athletics,Student Life
END:VEVENT
BEGIN:VEVENT
DTSTART;TZID=America/Chicago:20241017T180000
DTEND;TZID=America/Chicago:20241017T180000
DTSTAMP:20260421T041140
CREATED:20241011T195357Z
LAST-MODIFIED:20241011T200232Z
UID:2815-1729188000-1729188000@utsouthern.edu
SUMMARY:Student vs. Employee Pickleball Tournament
DESCRIPTION:Join us for a Student vs. Employee Pickleball Tournament featuring both singles and doubles matches. No equipment? No problem! We’ll provide everything you need. Compete for the chance to win a FREE Hawktoberfest T-shirt! \nLocation: East Campus at the D. Ann Neville Tennis Complex on Magazine Road \nSign up here: Pickleball Tournament.
URL:https://utsouthern.edu/event/student-vs-employee-pickleball-tournament/
LOCATION:East Campus – Outside\, 1238 E College St\, Pulaski\, TN\, 38478\, United States
CATEGORIES:Student Life
END:VEVENT
BEGIN:VEVENT
DTSTART;TZID=America/Chicago:20241016T130000
DTEND;TZID=America/Chicago:20241016T140000
DTSTAMP:20260421T041140
CREATED:20241007T203938Z
LAST-MODIFIED:20241007T204030Z
UID:2775-1729083600-1729087200@utsouthern.edu
SUMMARY:How to Stay Organized in School
DESCRIPTION:Join us for an insightful session with Dr. Little who will share expert tips on staying organized in school and achieving excellent grades. Discover practical strategies to manage your time effectively\, keep track of assignments\, and create a study routine that works for you. Dr. Little’s advice will help you excel academically and improve your organizational skills\, so don’t miss this opportunity! \nJohnston Center J-203 \n 
URL:https://utsouthern.edu/event/how-to-stay-organized-in-school/
LOCATION:Johnston Center
CATEGORIES:Student Life
END:VEVENT
BEGIN:VEVENT
DTSTART;TZID=America/Chicago:20241007T130000
DTEND;TZID=America/Chicago:20241011T133000
DTSTAMP:20260421T041140
CREATED:20240918T212137Z
LAST-MODIFIED:20240918T212320Z
UID:2628-1728306000-1728653400@utsouthern.edu
SUMMARY:Mindful Mile Challenge | Chalk the Green with Kindness
DESCRIPTION:Take a mindful break and join us on the campus green for a ‘Mindful Mile’ walk! As you stroll\, engage with trivia questions focused on health and wellness. This event is open to students and employees alike—add it to your calendar as a reminder to prioritize self-care and recharge during your busy day.
URL:https://utsouthern.edu/event/mindful-mile-challenge-chalk-the-green-with-kindness/
LOCATION:Campus Green\, W Madison St\, Pulasi\, TN\, 38478\, United States
CATEGORIES:Student Life
END:VEVENT
BEGIN:VEVENT
DTSTART;TZID=America/Chicago:20241002T130000
DTEND;TZID=America/Chicago:20241002T170000
DTSTAMP:20260421T041140
CREATED:20240918T211145Z
LAST-MODIFIED:20240918T211145Z
UID:2627-1727874000-1727888400@utsouthern.edu
SUMMARY:Blood Drive with Student Life
DESCRIPTION:Student Life is hosting a blood drive and a mobile donation unit from Blood Assurance will be on campus if you would like to support this event.\nSchedule your donation in advance at bloodassurance.org/utsouthern
URL:https://utsouthern.edu/event/blood-drive-with-student-life/
LOCATION:TN
CATEGORIES:Student Life
END:VEVENT
BEGIN:VEVENT
DTSTART;TZID=America/Chicago:20240927T000000
DTEND;TZID=America/Chicago:20240929T235959
DTSTAMP:20260421T041140
CREATED:20240918T183735Z
LAST-MODIFIED:20240927T172706Z
UID:2623-1727395200-1727654399@utsouthern.edu
SUMMARY:Beetlejuice\, Beetlejuice | Movies at Martin
DESCRIPTION:Three generations of the Deetz family return home to Winter River after an unexpected family tragedy. Still haunted by Beetlejuice\, Lydia’s life soon gets turned upside down when her rebellious teenage daughter discovers a mysterious portal to the afterlife. When someone says Beetlejuice’s name three times\, the mischievous demon gleefully returns to unleash his very own brand of mayhem. Showing for three weeks: \n\n\n\nFriday\, September 6. 13\, and 20 at 7:30 PM\n\n\n\nSaturday\, September 7\, 14\, and 21\,  at 2:00 PM & 7:30 PM\n\n\n\nSunday\, September 8\, 15\, and 22 at 2:00 PM
URL:https://utsouthern.edu/event/beetlejuice-beetlejuice-movies-at-martin/
LOCATION:Martin Hall Auditorium\, 433 W. Madison St.\, Pulaski\, TN\, 38478\, United States
CATEGORIES:Student Life
END:VEVENT
BEGIN:VEVENT
DTSTART;TZID=America/Chicago:20240923T140000
DTEND;TZID=America/Chicago:20240923T150000
DTSTAMP:20260421T041140
CREATED:20240919T000445Z
LAST-MODIFIED:20240919T000445Z
UID:2633-1727100000-1727103600@utsouthern.edu
SUMMARY:UT's Chief Wellness Officer Visit
DESCRIPTION:UT’s Chief Wellness Officer\, Dr. Jessi Gold\, will visit campus on Monday\, September 23\, 2024. Her visit is a valuable opportunity to strengthen our commitment to mental health and well-being across our UT community. Students who are interested in participating or learning more can contact Ms. Chrissy Jordon in Student Life.
URL:https://utsouthern.edu/event/uts-chief-wellness-officer-visit/
LOCATION:TN
CATEGORIES:Student Life
ORGANIZER;CN="Crissy Jordan":MAILTO:cjorda43@utsouthern.edu
END:VEVENT
BEGIN:VEVENT
DTSTART;TZID=America/Chicago:20240923T000000
DTEND;TZID=America/Chicago:20240928T235959
DTSTAMP:20260421T041140
CREATED:20240923T142625Z
LAST-MODIFIED:20240923T142625Z
UID:2672-1727049600-1727567999@utsouthern.edu
SUMMARY:This Week in Student Life
DESCRIPTION:Monday\, September 23: Criswell Scavenger Hunt (8AM-5PM) \nKeep an eye out around Criswell to find a stuffed animal. When you do\, find RA Sienna in room 201 to answer a question and go in the draw to win a prize! The more animals you find the greater the chance to win! \n  \nMonday\, September 23: Chief Wellness Officer Visit (2PM)\nUT’s Chief Wellness Officer\, Dr. Jessi Gold\, will be on campus today to visit with students and hear about their wellness needs and experiences. Feel free to join Dr. Gold at Student Life to say hi and share ideas\, recommendations\, or stories! \n  \nMonday\, September 23: Walmart Run (5PM)\nNeed a ride to Walmart? Meet at the Student Life House at 5pm tonight! \n  \nTuesday\, September 24: Pool Tournament (6PM) \nJoin RA Brandon for a pool tournament in the Upperman Lobby! \n  \nTuesday\, September 24: Bingo Night (7PM) \nJoin Student Life this Tuesday at 7 PM at the Student Union for Bingo Night! Come out for a fun evening of friendly competition and the chance to win some exciting prizes! \n  \nWednesday\, September 25: Goat Yoga (4PM) \nThe goats are back! Learn how yoga can help improve your mind and body and have a blast with friends and baby goats. Email Dr. Bryant to be placed on the waitlist! \n  \nThursday\, September 26: SpikeFest (5PM) \nCome out to the Green for SpikeFest 2024! Activities will include a Spikeball tournament along with other fun backyard games. The winning team will receive a prize! Please contact burkch53@utsouthern.edu by 4PM September 26 to sign up for the tournament. \n  \nFriday\, September 27: CJ Club Guest Speaker Series: 1st Lt. Victor Andrea (11AM-12PM) \nJoin the CJ club this Friday and hear from guest speaker 1st Lt. Victor Andrea from 11am-12pm in the Gault auditorium. \n\nFriday\, September 27: Preparations for Professions in Science Series: LaDonna Jones (3PM) \nLaDonna Jones\, PhD\, will be joining the Preparation for Professions in Science class via TEAMS on Friday 9/27 from 3-4PM. Dr. Jones is a Forensic Biologist working in the Kentucky State Police Western Forensic Laboratory.
URL:https://utsouthern.edu/event/this-week-in-student-life/
LOCATION:TN
CATEGORIES:Student Life
END:VEVENT
BEGIN:VEVENT
DTSTART;TZID=America/Chicago:20240922T150000
DTEND;TZID=America/Chicago:20240922T150000
DTSTAMP:20260421T041140
CREATED:20240918T210413Z
LAST-MODIFIED:20240918T210413Z
UID:2626-1727017200-1727017200@utsouthern.edu
SUMMARY:SGA Inauguration
DESCRIPTION:
URL:https://utsouthern.edu/event/sga-inauguration/
LOCATION:Colonial Hall Gallery
CATEGORIES:Student Life
END:VEVENT
END:VCALENDAR