BEGIN:VCALENDAR
VERSION:2.0
PRODID:-//UT Southern - ECPv6.15.18//NONSGML v1.0//EN
CALSCALE:GREGORIAN
METHOD:PUBLISH
X-WR-CALNAME:UT Southern
X-ORIGINAL-URL:https://utsouthern.edu
X-WR-CALDESC:Events for UT Southern
REFRESH-INTERVAL;VALUE=DURATION:PT1H
X-Robots-Tag:noindex
X-PUBLISHED-TTL:PT1H
BEGIN:VTIMEZONE
TZID:America/Chicago
BEGIN:DAYLIGHT
TZOFFSETFROM:-0600
TZOFFSETTO:-0500
TZNAME:CDT
DTSTART:20250309T080000
END:DAYLIGHT
BEGIN:STANDARD
TZOFFSETFROM:-0500
TZOFFSETTO:-0600
TZNAME:CST
DTSTART:20251102T070000
END:STANDARD
BEGIN:DAYLIGHT
TZOFFSETFROM:-0600
TZOFFSETTO:-0500
TZNAME:CDT
DTSTART:20260308T080000
END:DAYLIGHT
BEGIN:STANDARD
TZOFFSETFROM:-0500
TZOFFSETTO:-0600
TZNAME:CST
DTSTART:20261101T070000
END:STANDARD
BEGIN:DAYLIGHT
TZOFFSETFROM:-0600
TZOFFSETTO:-0500
TZNAME:CDT
DTSTART:20270314T080000
END:DAYLIGHT
BEGIN:STANDARD
TZOFFSETFROM:-0500
TZOFFSETTO:-0600
TZNAME:CST
DTSTART:20271107T070000
END:STANDARD
END:VTIMEZONE
BEGIN:VEVENT
DTSTART;TZID=America/Chicago:20260818T173000
DTEND;TZID=America/Chicago:20260818T200000
DTSTAMP:20260422T075910
CREATED:20240819T235925Z
LAST-MODIFIED:20260420T164318Z
UID:2110-1787074200-1787083200@utsouthern.edu
SUMMARY:Welcome Week: Concert and Fireworks
DESCRIPTION:Annual Welcome Back Fireworks and Concert.
URL:https://utsouthern.edu/event/welcome-week-concert-and-fireworks/
LOCATION:Campus Green\, W Madison St\, Pulasi\, TN\, 38478\, United States
CATEGORIES:Welcome Week
END:VEVENT
END:VCALENDAR