BEGIN:VCALENDAR
VERSION:2.0
PRODID:-//UT Southern - ECPv6.15.18//NONSGML v1.0//EN
CALSCALE:GREGORIAN
METHOD:PUBLISH
X-WR-CALNAME:UT Southern
X-ORIGINAL-URL:https://utsouthern.edu
X-WR-CALDESC:Events for UT Southern
REFRESH-INTERVAL;VALUE=DURATION:PT1H
X-Robots-Tag:noindex
X-PUBLISHED-TTL:PT1H
BEGIN:VTIMEZONE
TZID:America/Chicago
BEGIN:DAYLIGHT
TZOFFSETFROM:-0600
TZOFFSETTO:-0500
TZNAME:CDT
DTSTART:20250309T080000
END:DAYLIGHT
BEGIN:STANDARD
TZOFFSETFROM:-0500
TZOFFSETTO:-0600
TZNAME:CST
DTSTART:20251102T070000
END:STANDARD
BEGIN:DAYLIGHT
TZOFFSETFROM:-0600
TZOFFSETTO:-0500
TZNAME:CDT
DTSTART:20260308T080000
END:DAYLIGHT
BEGIN:STANDARD
TZOFFSETFROM:-0500
TZOFFSETTO:-0600
TZNAME:CST
DTSTART:20261101T070000
END:STANDARD
BEGIN:DAYLIGHT
TZOFFSETFROM:-0600
TZOFFSETTO:-0500
TZNAME:CDT
DTSTART:20270314T080000
END:DAYLIGHT
BEGIN:STANDARD
TZOFFSETFROM:-0500
TZOFFSETTO:-0600
TZNAME:CST
DTSTART:20271107T070000
END:STANDARD
END:VTIMEZONE
BEGIN:VEVENT
DTSTART;TZID=America/Chicago:20260328T090000
DTEND;TZID=America/Chicago:20260328T150000
DTSTAMP:20260421T070514
CREATED:20260224T163457Z
LAST-MODIFIED:20260420T161117Z
UID:4855-1774688400-1774710000@utsouthern.edu
SUMMARY:Women's Basketball Camp
DESCRIPTION:
URL:https://utsouthern.edu/event/womens-basketball-camp/
CATEGORIES:Athletics
END:VEVENT
BEGIN:VEVENT
DTSTART;TZID=America/Chicago:20260330T000000
DTEND;TZID=America/Chicago:20260427T235959
DTSTAMP:20260421T070514
CREATED:20260223T204143Z
LAST-MODIFIED:20260223T204143Z
UID:4810-1774828800-1777334399@utsouthern.edu
SUMMARY:Student Art Show
DESCRIPTION:
URL:https://utsouthern.edu/event/student-art-show/
LOCATION:Gault Fine Arts Gallery
END:VEVENT
BEGIN:VEVENT
DTSTART;TZID=America/Chicago:20260330T080000
DTEND;TZID=America/Chicago:20260330T080000
DTSTAMP:20260421T070514
CREATED:20260224T160126Z
LAST-MODIFIED:20260402T175041Z
UID:4846-1774857600-1774857600@utsouthern.edu
SUMMARY:Registration begins for SU/FA 2026 - Veterans
DESCRIPTION:
URL:https://utsouthern.edu/event/registration-begins-for-su-fa-2026-veterans/
END:VEVENT
BEGIN:VEVENT
DTSTART;TZID=America/Chicago:20260408T110000
DTEND;TZID=America/Chicago:20260408T130000
DTSTAMP:20260421T070514
CREATED:20260224T155245Z
LAST-MODIFIED:20260224T155245Z
UID:4834-1775646000-1775653200@utsouthern.edu
SUMMARY:3rd Annual Scholarship Luncheon
DESCRIPTION:
URL:https://utsouthern.edu/event/3rd-annual-scholarship-luncheon/
CATEGORIES:Academics
END:VEVENT
BEGIN:VEVENT
DTSTART;TZID=America/Chicago:20260410T000000
DTEND;TZID=America/Chicago:20260410T000000
DTSTAMP:20260421T070514
CREATED:20260224T160347Z
LAST-MODIFIED:20260224T160347Z
UID:4850-1775779200-1775779200@utsouthern.edu
SUMMARY:Last day to withdraw from SP full classes
DESCRIPTION:
URL:https://utsouthern.edu/event/last-day-to-withdraw-from-sp-full-classes/
END:VEVENT
BEGIN:VEVENT
DTSTART;TZID=America/Chicago:20260415T000000
DTEND;TZID=America/Chicago:20260415T235959
DTSTAMP:20260421T070514
CREATED:20260220T175846Z
LAST-MODIFIED:20260220T175846Z
UID:4772-1776211200-1776297599@utsouthern.edu
SUMMARY:Admitted Student Day
DESCRIPTION:Admitted students will receive information about this event from the UT Southern Admissions team.
URL:https://utsouthern.edu/event/admitted-student-day-2/
CATEGORIES:Admissions
ORGANIZER;CN="Admissions":MAILTO:admissions@utsouthern.edu
END:VEVENT
BEGIN:VEVENT
DTSTART;TZID=America/Chicago:20260421T110000
DTEND;TZID=America/Chicago:20260421T123000
DTSTAMP:20260421T070514
CREATED:20260408T180926Z
LAST-MODIFIED:20260420T161641Z
UID:5123-1776769200-1776774600@utsouthern.edu
SUMMARY:The School of Math and Sciences 2026 Awards Ceremony
DESCRIPTION:The School of Math and Sciences 2026 Awards Ceremony celebrates the outstanding achievements of students across the School of Math and Sciences! \nThe event will begin with welcome remarks from Dr. Prentice Chandler\, followed by faculty presenting student awards recognizing academic excellence\, leadership\, research\, and other accomplishments throughout the year. After the recognitions and closing remarks\, guests are invited to stay for a short reception with light refreshments\, offering time for photos\, congratulations\, and fellowship with faculty\, students\, and families.
URL:https://utsouthern.edu/event/the-school-of-math-and-sciences-2026-awards-ceremony/
LOCATION:Gault Fine Arts Auditorium
CATEGORIES:Academics
ORGANIZER;CN="School of Math and Sciences":MAILTO:blw271@utsouthern.edu
END:VEVENT
BEGIN:VEVENT
DTSTART;TZID=America/Chicago:20260423T183000
DTEND;TZID=America/Chicago:20260423T193000
DTSTAMP:20260421T070514
CREATED:20260331T215212Z
LAST-MODIFIED:20260331T215240Z
UID:5046-1776969000-1776972600@utsouthern.edu
SUMMARY:One Night with the Bard: Songs and Scenes from Shakespeare
DESCRIPTION:April 23 6:30-7:30  \nWhere: Gault Recital Hall  \nThe UT Southern School of Arts and Humanities invites you to celebrate William Shakespeare’s 462nd birthday with us. \n Come watch as faculty and students from our Fine Arts and English programs perform some of Shakespeare’s most famous scenes and songs!  \nAdmission is free and open to the public.
URL:https://utsouthern.edu/event/one-night-with-the-bard-songs-and-scenes-from-shakespeare/
LOCATION:Gault Fine Arts Auditorium
CATEGORIES:Students
END:VEVENT
BEGIN:VEVENT
DTSTART;TZID=America/Chicago:20260425T190000
DTEND;TZID=America/Chicago:20260425T203000
DTSTAMP:20260421T070514
CREATED:20260402T174409Z
LAST-MODIFIED:20260420T170235Z
UID:5070-1777143600-1777149000@utsouthern.edu
SUMMARY:Choir Spring Concert
DESCRIPTION:
URL:https://utsouthern.edu/event/choir-spring-concert-2/
LOCATION:Church of the Messiah (Pulaski)
CATEGORIES:Community,Public
END:VEVENT
BEGIN:VEVENT
DTSTART;TZID=America/Chicago:20260427T000000
DTEND;TZID=America/Chicago:20260427T235959
DTSTAMP:20260421T070514
CREATED:20260223T204841Z
LAST-MODIFIED:20260223T204841Z
UID:4817-1777248000-1777334399@utsouthern.edu
SUMMARY:No Classes - Reading Day
DESCRIPTION:
URL:https://utsouthern.edu/event/no-classes-reading-day/
END:VEVENT
BEGIN:VEVENT
DTSTART;TZID=America/Chicago:20260428T000000
DTEND;TZID=America/Chicago:20260501T000000
DTSTAMP:20260421T070514
CREATED:20260224T160123Z
LAST-MODIFIED:20260224T160123Z
UID:4840-1777334400-1777593600@utsouthern.edu
SUMMARY:Final Exams Spring 2026
DESCRIPTION:
URL:https://utsouthern.edu/event/final-exams-spring-2026/
END:VEVENT
BEGIN:VEVENT
DTSTART;TZID=America/Chicago:20260430T103000
DTEND;TZID=America/Chicago:20260430T120000
DTSTAMP:20260421T070514
CREATED:20260409T173512Z
LAST-MODIFIED:20260409T173512Z
UID:5153-1777545000-1777550400@utsouthern.edu
SUMMARY:UT Southern Advisory Board Meeting
DESCRIPTION:
URL:https://utsouthern.edu/event/ut-southern-advisory-board-meeting/
LOCATION:Colonial Hall Ford Conference Room\, 318 W Madison St\, Pulaski\, TN\, 38478\, United States
END:VEVENT
BEGIN:VEVENT
DTSTART;TZID=America/Chicago:20260430T170000
DTEND;TZID=America/Chicago:20260430T200000
DTSTAMP:20260421T070514
CREATED:20260420T162116Z
LAST-MODIFIED:20260420T162134Z
UID:5217-1777568400-1777579200@utsouthern.edu
SUMMARY:Spring of 2026 Student Exhibition
DESCRIPTION:The opening reception for our spring student display of 2026 is finally here!\nThis event could serve as an open door for networking and opportunities for great connections.\nPlease feel free to swing by for the support\, as refreshments will also be available.
URL:https://utsouthern.edu/event/spring-of-2026-student-exhibition/
LOCATION:Gault Fine Arts Center Recital Hall and Foyer\, 423 W Madison St\, Pulaski\, TN\, 38478\, United States
CATEGORIES:Community,Students
END:VEVENT
BEGIN:VEVENT
DTSTART;TZID=America/Chicago:20260501T130000
DTEND;TZID=America/Chicago:20260501T150000
DTSTAMP:20260421T070514
CREATED:20260408T180927Z
LAST-MODIFIED:20260420T162503Z
UID:5125-1777640400-1777647600@utsouthern.edu
SUMMARY:Athletic Sash Ceremony
DESCRIPTION:An athletic sash ceremony is a special recognition event held to honor student-athletes for their dedication\, achievements\, and contributions to their team and program over their time at the University of Tennessee Southern.
URL:https://utsouthern.edu/event/athletic-sash-ceremony-2/
LOCATION:Martin Hall Auditorium\, 433 W. Madison St.\, Pulaski\, TN\, 38478\, United States
CATEGORIES:Athletics,Students
ORGANIZER;CN="Athletics":MAILTO:osteal95@utsouthern.edu
END:VEVENT
BEGIN:VEVENT
DTSTART;TZID=America/Chicago:20260501T170000
DTEND;TZID=America/Chicago:20260501T180000
DTSTAMP:20260421T070514
CREATED:20260420T165507Z
LAST-MODIFIED:20260420T165507Z
UID:5225-1777654800-1777658400@utsouthern.edu
SUMMARY:2026 Nursing Pinning Ceremony
DESCRIPTION:The 2026 Nursing Pinning Ceremony celebrates our nursing graduates from the Jeannette M. Travis School of Nursing and Health Sciences program. \nDate: May 1\, 2026 \nTime: 5:00pm-6:00pm \nLocation: The Martin Theater \nParking: Commuter Lot and spots surrounding Martin Hall
URL:https://utsouthern.edu/event/2026-nursing-pinning-ceremony/
LOCATION:Martin Hall Auditorium\, 433 W. Madison St.\, Pulaski\, TN\, 38478\, United States
CATEGORIES:Academics
ORGANIZER;CN="Nursing":MAILTO:ahtoro@utsouthern.edu
END:VEVENT
BEGIN:VEVENT
DTSTART;TZID=America/Chicago:20260501T170000
DTEND;TZID=America/Chicago:20260501T190000
DTSTAMP:20260421T070514
CREATED:20260408T180928Z
LAST-MODIFIED:20260420T163251Z
UID:5126-1777654800-1777662000@utsouthern.edu
SUMMARY:School of Education Honors Awards Ceremony
DESCRIPTION:The School of Education will host an Honors Awards Ceremonies for their department on Friday\, May 1st. \nA reception will be held for students and attendees prior to the ceremony. \n5:00-6:00- Gault Gallery: Reception for Grissom School of Education Student Teacher Candidates and Honors Awards Attendees \n6:00-6:30- Gault Auditorium: Presentation of Honors Awards
URL:https://utsouthern.edu/event/school-of-education-honors-awards-ceremony/
LOCATION:Gault Fine Arts Center Recital Hall and Foyer\, 423 W Madison St\, Pulaski\, TN\, 38478\, United States
CATEGORIES:Academics,Students
ORGANIZER;CN="Jessica Oden":MAILTO:joden2@utsouthern.edu
END:VEVENT
BEGIN:VEVENT
DTSTART;TZID=America/Chicago:20260502T000000
DTEND;TZID=America/Chicago:20260502T235959
DTSTAMP:20260421T070514
CREATED:20260220T174924Z
LAST-MODIFIED:20260220T174924Z
UID:4771-1777680000-1777766399@utsouthern.edu
SUMMARY:Commencement Ceremony
DESCRIPTION:The University of Tennessee Southern is excited to celebrate its 2025 Commencement Ceremony on Saturday\, May 2\, 2026\, on the picturesque Campus Green. Please see event website for the latest details.
URL:https://utsouthern.edu/event/commencement-ceremony/
LOCATION:Campus Green\, W Madison St\, Pulasi\, TN\, 38478\, United States
CATEGORIES:Academics,Students
END:VEVENT
BEGIN:VEVENT
DTSTART;TZID=America/Chicago:20260505T000000
DTEND;TZID=America/Chicago:20260506T235959
DTSTAMP:20260421T070514
CREATED:20260408T181002Z
LAST-MODIFIED:20260420T170004Z
UID:5128-1777939200-1778111999@utsouthern.edu
SUMMARY:AI Conference
DESCRIPTION:The University of Tennessee Southern\, in partnership with The University of Alabama in Huntsville\, Cyber Huntsville\, and Moraine Valley Community College\, invites you to attend a FREE AI workshop for educators and students. Faculty will learn how to integrate AI into teaching and curriculum development\, and the content is appropriate for classroom teachers\, curriculum coaches\, counselors\, and administrators. Students will learn valuable AI Literacy skills\, such as AI history\, types of AI\, applications of AI\, using AI safely\, applied machine learning\, machine learning in cybersecurity\, ethics of AI\, and/or AI laws and governance. \nThe conference offers the following benefits to students:\nExposure to cutting-edge skills\nAccess to hands-on and high-interest AI lab content to build familiarity and confidence\nFocus on AI ethics and responsible AI usage\nOpportunity to practice soft skills by networking with peers as well as faculty and staff from universities and community colleges. \nPlease review the event details below:\nDates: Tuesday\, May 5\, and Wednesday\, May 6.\nTimes: 8:30 to 2:30 daily.\nLocation: Gault Center\, University of Tennessee Southern\, Pulaski\, TN\nCost: Free\, lunch is included\nTracks: Faculty Track (open to university\, high school\, and middle school faculty and administration) and Student Track (open to college and high school students)
URL:https://utsouthern.edu/event/ai-conference/
CATEGORIES:Community,Employees,Public
END:VEVENT
BEGIN:VEVENT
DTSTART;TZID=America/Chicago:20260505T070000
DTEND;TZID=America/Chicago:20260505T200000
DTSTAMP:20260421T070514
CREATED:20260408T181003Z
LAST-MODIFIED:20260420T164539Z
UID:5129-1777964400-1778011200@utsouthern.edu
SUMMARY:Election Day
DESCRIPTION:Voting precinct for the 6th district general election.
URL:https://utsouthern.edu/event/election-day-3/
LOCATION:Colonial Hall\, Pulaski\, TN\, 38478\, United States
CATEGORIES:Public
END:VEVENT
BEGIN:VEVENT
DTSTART;TZID=America/Chicago:20260525T000000
DTEND;TZID=America/Chicago:20260525T235959
DTSTAMP:20260421T070514
CREATED:20260223T204951Z
LAST-MODIFIED:20260223T204951Z
UID:4818-1779667200-1779753599@utsouthern.edu
SUMMARY:University Closed
DESCRIPTION:No classes
URL:https://utsouthern.edu/event/university-closed-2/
CATEGORIES:Community,Employees,Public,Students
END:VEVENT
BEGIN:VEVENT
DTSTART;TZID=America/Chicago:20260603T090000
DTEND;TZID=America/Chicago:20260603T130000
DTSTAMP:20260421T070514
CREATED:20260420T172114Z
LAST-MODIFIED:20260420T172145Z
UID:5231-1780477200-1780491600@utsouthern.edu
SUMMARY:UT Southern Baseball Prospect Camp
DESCRIPTION:Contact Athletics for more information.
URL:https://utsouthern.edu/event/ut-southern-baseball-prospect-camp/
LOCATION:East Campus – Outside\, 1238 E College St\, Pulaski\, TN\, 38478\, United States
CATEGORIES:Athletics
ORGANIZER;CN="Athletics":MAILTO:osteal95@utsouthern.edu
END:VEVENT
BEGIN:VEVENT
DTSTART;TZID=America/Chicago:20260619T000000
DTEND;TZID=America/Chicago:20260619T000000
DTSTAMP:20260421T070514
CREATED:20260224T155210Z
LAST-MODIFIED:20260224T155210Z
UID:4826-1781827200-1781827200@utsouthern.edu
SUMMARY:University Closed: No Classes
DESCRIPTION:
URL:https://utsouthern.edu/event/university-closed-no-classes/
CATEGORIES:Academics
END:VEVENT
BEGIN:VEVENT
DTSTART;TZID=America/Chicago:20260703T000000
DTEND;TZID=America/Chicago:20260703T235959
DTSTAMP:20260421T070514
CREATED:20260223T204806Z
LAST-MODIFIED:20260420T161331Z
UID:4816-1783036800-1783123199@utsouthern.edu
SUMMARY:University Closed: No Classes
DESCRIPTION:
URL:https://utsouthern.edu/event/university-closed/
CATEGORIES:Academics
END:VEVENT
BEGIN:VEVENT
DTSTART;TZID=America/Chicago:20260714T000000
DTEND;TZID=America/Chicago:20260715T235959
DTSTAMP:20260421T070514
CREATED:20260420T172317Z
LAST-MODIFIED:20260420T172317Z
UID:5232-1783987200-1784159999@utsouthern.edu
SUMMARY:Firehawk Baseball Kids Camp
DESCRIPTION:Contact Firehawk Baseball for more information.
URL:https://utsouthern.edu/event/firehawk-baseball-kids-camp/
LOCATION:East Campus – Outside\, 1238 E College St\, Pulaski\, TN\, 38478\, United States
CATEGORIES:Athletics,Public
ORGANIZER;CN="Athletics":MAILTO:osteal95@utsouthern.edu
END:VEVENT
BEGIN:VEVENT
DTSTART;TZID=America/Chicago:20260806T070000
DTEND;TZID=America/Chicago:20260806T200000
DTSTAMP:20260421T070514
CREATED:20260408T181004Z
LAST-MODIFIED:20260420T164132Z
UID:5131-1785999600-1786046400@utsouthern.edu
SUMMARY:Election Day
DESCRIPTION:Voting precinct for the 6th district general election.
URL:https://utsouthern.edu/event/election-day-4/
LOCATION:Colonial Hall\, Pulaski\, TN\, 38478\, United States
CATEGORIES:Community
END:VEVENT
BEGIN:VEVENT
DTSTART;TZID=America/Chicago:20260818T173000
DTEND;TZID=America/Chicago:20260818T200000
DTSTAMP:20260421T070514
CREATED:20240819T235925Z
LAST-MODIFIED:20260420T164318Z
UID:2110-1787074200-1787083200@utsouthern.edu
SUMMARY:Welcome Week: Concert and Fireworks
DESCRIPTION:Annual Welcome Back Fireworks and Concert.
URL:https://utsouthern.edu/event/welcome-week-concert-and-fireworks/
LOCATION:Campus Green\, W Madison St\, Pulasi\, TN\, 38478\, United States
CATEGORIES:Welcome Week
END:VEVENT
BEGIN:VEVENT
DTSTART;TZID=America/Chicago:20260824T080000
DTEND;TZID=America/Chicago:20260824T120000
DTSTAMP:20260421T070514
CREATED:20260408T181003Z
LAST-MODIFIED:20260420T160846Z
UID:5130-1787558400-1787572800@utsouthern.edu
SUMMARY:UT Southern TACRAO
DESCRIPTION:UTS TACRAO College Fair
URL:https://utsouthern.edu/event/ut-southern-tacrao/
LOCATION:Curry Athletic Center\, 150 Kermit Smith Drive\, Pulaski\, Tennessee\, 38478\, United States
CATEGORIES:Admissions
ORGANIZER;CN="Admissions":MAILTO:admissions@utsouthern.edu
END:VEVENT
BEGIN:VEVENT
DTSTART;TZID=America/Chicago:20260825T090000
DTEND;TZID=America/Chicago:20260825T110000
DTSTAMP:20260421T070514
CREATED:20260223T205300Z
LAST-MODIFIED:20260223T205300Z
UID:4820-1787648400-1787655600@utsouthern.edu
SUMMARY:Giles County College Fair
DESCRIPTION:
URL:https://utsouthern.edu/event/giles-county-college-fair/
LOCATION:Curry Athletic Center\, 150 Kermit Smith Drive\, Pulaski\, Tennessee\, 38478\, United States
CATEGORIES:Admissions
ORGANIZER;CN="Admissions":MAILTO:admissions@utsouthern.edu
END:VEVENT
BEGIN:VEVENT
DTSTART;TZID=America/Chicago:20261103T000000
DTEND;TZID=America/Chicago:20261103T235959
DTSTAMP:20260421T070514
CREATED:20241101T205837Z
LAST-MODIFIED:20260420T164710Z
UID:2948-1793664000-1793750399@utsouthern.edu
SUMMARY:Election Day
DESCRIPTION:Colonial Hall is a Giles County polling location for Precinct A\, District 6. \nSome Building access and parking in that area may be limited.
URL:https://utsouthern.edu/event/election-day/
LOCATION:Colonial Hall\, Pulaski\, TN\, 38478\, United States
CATEGORIES:Public
END:VEVENT
END:VCALENDAR